BEGIN:VCALENDAR
VERSION:2.0
PRODID:-//Plone.org//NONSGML plone.app.event//EN
X-WR-TIMEZONE:Europe/Berlin
BEGIN:VEVENT
SUMMARY:Musei e società. Un percorso di partecipazione
DTSTART;TZID=Europe/Berlin;VALUE=DATE-TIME:20251014T110000
DTEND;TZID=Europe/Berlin;VALUE=DATE-TIME:20251104T120000
DTSTAMP;VALUE=DATE-TIME:20260422T205525Z
UID:438163fe5481498fa97741243a74551a@www.isprambiente.gov.it
CREATED;VALUE=DATE-TIME:20251007T090214Z
LAST-MODIFIED;VALUE=DATE-TIME:20251007T090219Z
URL:https://www.isprambiente.gov.it/it/attivita/museo/calendario-eventi/20
 25/musei-e-societa-un-percorso-di-partecipazione
END:VEVENT
BEGIN:VTIMEZONE
TZID:Europe/Berlin
X-LIC-LOCATION:Europe/Berlin
BEGIN:DAYLIGHT
DTSTART;VALUE=DATE-TIME:20250330T030000
TZNAME:CEST
TZOFFSETFROM:+0100
TZOFFSETTO:+0200
END:DAYLIGHT
BEGIN:STANDARD
DTSTART;VALUE=DATE-TIME:20251026T020000
TZNAME:CET
TZOFFSETFROM:+0200
TZOFFSETTO:+0100
END:STANDARD
END:VTIMEZONE
END:VCALENDAR
