BEGIN:VCALENDAR
VERSION:2.0
PRODID:-//Plone.org//NONSGML plone.app.event//EN
X-WR-TIMEZONE:Europe/Berlin
BEGIN:VEVENT
SUMMARY:Oceani Perduti. Giganti marini al tempo dei dinosauri
DTSTART;TZID=Europe/Berlin;VALUE=DATE-TIME:20250927T130000
DTEND;TZID=Europe/Berlin;VALUE=DATE-TIME:20260628T140000
DTSTAMP;VALUE=DATE-TIME:20260422T210145Z
UID:4284a824ce014748be6201dab2378405@www.isprambiente.gov.it
CONTACT:https://museokosmos.eu/mostre/oceaniperduti/
CREATED;VALUE=DATE-TIME:20250926T113002Z
LAST-MODIFIED;VALUE=DATE-TIME:20250926T113007Z
URL:https://www.isprambiente.gov.it/it/attivita/museo/calendario-eventi/20
 25/oceani-perduti-giganti-marini-al-tempo-dei-dinosauri
END:VEVENT
BEGIN:VTIMEZONE
TZID:Europe/Berlin
X-LIC-LOCATION:Europe/Berlin
BEGIN:DAYLIGHT
DTSTART;VALUE=DATE-TIME:20250330T030000
TZNAME:CEST
TZOFFSETFROM:+0100
TZOFFSETTO:+0200
END:DAYLIGHT
BEGIN:DAYLIGHT
DTSTART;VALUE=DATE-TIME:20260329T030000
TZNAME:CEST
TZOFFSETFROM:+0100
TZOFFSETTO:+0200
END:DAYLIGHT
END:VTIMEZONE
END:VCALENDAR
