BEGIN:VCALENDAR
VERSION:2.0
PRODID:-//Plone.org//NONSGML plone.app.event//EN
X-WR-TIMEZONE:Europe/Berlin
BEGIN:VEVENT
SUMMARY:Osservatori del Cielo. Storie italiane di scienza\, tecnologia e p
 ersone
DTSTART;TZID=Europe/Berlin;VALUE=DATE-TIME:20250422T080000
DTEND;TZID=Europe/Berlin;VALUE=DATE-TIME:20250930T090000
DTSTAMP;VALUE=DATE-TIME:20260422T205727Z
UID:99bd29bd527c4980a95ae5d7b3fd37c0@www.isprambiente.gov.it
CONTACT:https://www.unimib.it/eventi/osservatori-del-cielo-storie-italiane
 -scienza-tecnologia-e-persone
CREATED;VALUE=DATE-TIME:20250422T060727Z
LAST-MODIFIED;VALUE=DATE-TIME:20250422T060731Z
URL:https://www.isprambiente.gov.it/it/attivita/museo/calendario-eventi/20
 25/osservatori-del-cielo-storie-italiane-di-scienza-tecnologia-e-persone
END:VEVENT
BEGIN:VTIMEZONE
TZID:Europe/Berlin
X-LIC-LOCATION:Europe/Berlin
BEGIN:DAYLIGHT
DTSTART;VALUE=DATE-TIME:20250330T030000
TZNAME:CEST
TZOFFSETFROM:+0100
TZOFFSETTO:+0200
END:DAYLIGHT
END:VTIMEZONE
END:VCALENDAR
