BEGIN:VCALENDAR
VERSION:2.0
PRODID:-//Plone.org//NONSGML plone.app.event//EN
X-WR-TIMEZONE:Europe/Berlin
BEGIN:VEVENT
SUMMARY:Plasticocene\, la mostra itinerante dedicata all’ambiente acquat
 ico e marino
DTSTART;TZID=Europe/Berlin;VALUE=DATE-TIME:20250623T070000
DTEND;TZID=Europe/Berlin;VALUE=DATE-TIME:20251208T080000
DTSTAMP;VALUE=DATE-TIME:20260422T210140Z
UID:84cb855af2834d33aa44456d036aa248@www.isprambiente.gov.it
CONTACT:https://www.bioparco.it/attivita-ed-eventi/plasticocene-la-mostra-
 itinerante-dedicata-allambiente-acquatico-e-marino/
CREATED;VALUE=DATE-TIME:20250623T050847Z
LAST-MODIFIED;VALUE=DATE-TIME:20250623T050852Z
URL:https://www.isprambiente.gov.it/it/attivita/museo/calendario-eventi/20
 25/plasticocene-la-mostra-itinerante-dedicata-all2019ambiente-acquatico-e-
 marino
END:VEVENT
BEGIN:VTIMEZONE
TZID:Europe/Berlin
X-LIC-LOCATION:Europe/Berlin
BEGIN:DAYLIGHT
DTSTART;VALUE=DATE-TIME:20250330T030000
TZNAME:CEST
TZOFFSETFROM:+0100
TZOFFSETTO:+0200
END:DAYLIGHT
BEGIN:STANDARD
DTSTART;VALUE=DATE-TIME:20251026T020000
TZNAME:CET
TZOFFSETFROM:+0200
TZOFFSETTO:+0100
END:STANDARD
END:VTIMEZONE
END:VCALENDAR
