BEGIN:VCALENDAR
VERSION:2.0
PRODID:-//Plone.org//NONSGML plone.app.event//EN
X-WR-TIMEZONE:Europe/Berlin
BEGIN:VEVENT
SUMMARY:Premio Italiano di Paleoarte 2025
DTSTART;TZID=Europe/Berlin;VALUE=DATE-TIME:20251115T090000
DTEND;TZID=Europe/Berlin;VALUE=DATE-TIME:20251115T100000
DTSTAMP;VALUE=DATE-TIME:20260422T210145Z
UID:5e732aabcce3420d99a77528bb3fcd56@www.isprambiente.gov.it
CONTACT:https://www.museopaleontologicomontevarchi.it/events/premio-italia
 no-di-paleoarte-2025/
CREATED;VALUE=DATE-TIME:20251112T085209Z
LAST-MODIFIED;VALUE=DATE-TIME:20251112T085213Z
URL:https://www.isprambiente.gov.it/it/attivita/museo/calendario-eventi/20
 25/premio-italiano-di-paleoarte-2025
END:VEVENT
BEGIN:VTIMEZONE
TZID:Europe/Berlin
X-LIC-LOCATION:Europe/Berlin
BEGIN:STANDARD
DTSTART;VALUE=DATE-TIME:20251026T020000
TZNAME:CET
TZOFFSETFROM:+0200
TZOFFSETTO:+0100
END:STANDARD
END:VTIMEZONE
END:VCALENDAR
