BEGIN:VCALENDAR
VERSION:2.0
PRODID:-//Plone.org//NONSGML plone.app.event//EN
X-WR-TIMEZONE:Europe/Berlin
BEGIN:VEVENT
SUMMARY:Presentazione del progetto xFORMAL
DTSTART;TZID=Europe/Berlin;VALUE=DATE-TIME:20251209T080000
DTEND;TZID=Europe/Berlin;VALUE=DATE-TIME:20251209T090000
DTSTAMP;VALUE=DATE-TIME:20260422T221506Z
UID:14dbadaf304c4fd3ac36825e6095e200@www.isprambiente.gov.it
CONTACT:https://museicivici.comune.verona.it/nqcontent.cfm?a_id=97883
CREATED;VALUE=DATE-TIME:20251205T074416Z
LAST-MODIFIED;VALUE=DATE-TIME:20251205T074419Z
URL:https://www.isprambiente.gov.it/it/attivita/museo/calendario-eventi/20
 25/presentazione-del-progetto-xformal
END:VEVENT
BEGIN:VTIMEZONE
TZID:Europe/Berlin
X-LIC-LOCATION:Europe/Berlin
BEGIN:STANDARD
DTSTART;VALUE=DATE-TIME:20251026T020000
TZNAME:CET
TZOFFSETFROM:+0200
TZOFFSETTO:+0100
END:STANDARD
END:VTIMEZONE
END:VCALENDAR
