BEGIN:VCALENDAR
VERSION:2.0
PRODID:-//Plone.org//NONSGML plone.app.event//EN
X-WR-TIMEZONE:Europe/Berlin
BEGIN:VEVENT
SUMMARY:Presentazione del volume “Acquisizioni museali: etica\, pratiche
  e visioni”
DTSTART;TZID=Europe/Berlin;VALUE=DATE-TIME:20251217T080000
DTEND;TZID=Europe/Berlin;VALUE=DATE-TIME:20251217T090000
DTSTAMP;VALUE=DATE-TIME:20260422T210145Z
UID:caf84ca781dc46d99d179e3c70b24e3e@www.isprambiente.gov.it
CONTACT:https://www.icom-italia.org/presentazione-del-volume-acquisizioni-
 museali-etica-pratiche-e-visioni-in-collaborazione-con-regione-lombardia-m
 ilano-palazzo-lombardia-17-dicembre-2025/
CREATED;VALUE=DATE-TIME:20251205T074256Z
LAST-MODIFIED;VALUE=DATE-TIME:20251205T074306Z
URL:https://www.isprambiente.gov.it/it/attivita/museo/calendario-eventi/20
 25/presentazione-del-volume-201cacquisizioni-museali-etica-pratiche-e-visi
 oni201d
END:VEVENT
BEGIN:VTIMEZONE
TZID:Europe/Berlin
X-LIC-LOCATION:Europe/Berlin
BEGIN:STANDARD
DTSTART;VALUE=DATE-TIME:20251026T020000
TZNAME:CET
TZOFFSETFROM:+0200
TZOFFSETTO:+0100
END:STANDARD
END:VTIMEZONE
END:VCALENDAR
