BEGIN:VCALENDAR
VERSION:2.0
PRODID:-//Plone.org//NONSGML plone.app.event//EN
X-WR-TIMEZONE:Europe/Berlin
BEGIN:VEVENT
SUMMARY:Progettare gli allestimenti museali: tra esposizione permanente e 
 temporanea
DTSTART;TZID=Europe/Berlin;VALUE=DATE-TIME:20251023T070000
DTEND;TZID=Europe/Berlin;VALUE=DATE-TIME:20251023T080000
DTSTAMP;VALUE=DATE-TIME:20260422T210302Z
UID:01889587540d41c2993630f81baa0d35@www.isprambiente.gov.it
CONTACT:https://www.icom-italia.org/doppio-appuntamento-in-collaborazione-
 con-regione-lombardia-progettare-gli-allestimenti-museali-traesposizione-p
 ermanente-e-temporanea-online-16-e-23-ottobre-2025/
CREATED;VALUE=DATE-TIME:20251023T052800Z
LAST-MODIFIED;VALUE=DATE-TIME:20251023T052813Z
URL:https://www.isprambiente.gov.it/it/attivita/museo/calendario-eventi/20
 25/progettare-gli-allestimenti-museali-tra-esposizione-permanente-e-tempor
 anea
END:VEVENT
BEGIN:VTIMEZONE
TZID:Europe/Berlin
X-LIC-LOCATION:Europe/Berlin
BEGIN:DAYLIGHT
DTSTART;VALUE=DATE-TIME:20250330T030000
TZNAME:CEST
TZOFFSETFROM:+0100
TZOFFSETTO:+0200
END:DAYLIGHT
END:VTIMEZONE
END:VCALENDAR
