BEGIN:VCALENDAR
VERSION:2.0
PRODID:-//Plone.org//NONSGML plone.app.event//EN
X-WR-TIMEZONE:Europe/Berlin
BEGIN:VEVENT
SUMMARY:Quantum Mechanics applied to Earth Sciences
DTSTART;TZID=Europe/Berlin;VALUE=DATE-TIME:20250326T080000
DTEND;TZID=Europe/Berlin;VALUE=DATE-TIME:20250327T090000
DTSTAMP;VALUE=DATE-TIME:20260422T205350Z
UID:774f23db538b47f58f56c6581ad6bf3f@www.isprambiente.gov.it
CONTACT:https://www.lincei.it/it/manifestazioni/quantum-mechanics-applied-
 earth-sciences
CREATED;VALUE=DATE-TIME:20250317T074635Z
LAST-MODIFIED;VALUE=DATE-TIME:20250317T074639Z
URL:https://www.isprambiente.gov.it/it/attivita/museo/calendario-eventi/20
 25/quantum-mechanics-applied-to-earth-sciences
END:VEVENT
BEGIN:VTIMEZONE
TZID:Europe/Berlin
X-LIC-LOCATION:Europe/Berlin
BEGIN:STANDARD
DTSTART;VALUE=DATE-TIME:20241027T020000
TZNAME:CET
TZOFFSETFROM:+0200
TZOFFSETTO:+0100
END:STANDARD
END:VTIMEZONE
END:VCALENDAR
