BEGIN:VCALENDAR
VERSION:2.0
PRODID:-//Plone.org//NONSGML plone.app.event//EN
X-WR-TIMEZONE:Europe/Berlin
BEGIN:VEVENT
SUMMARY:RAGGIO VERDE
DTSTART;TZID=Europe/Berlin;VALUE=DATE-TIME:20250623T070000
DTEND;TZID=Europe/Berlin;VALUE=DATE-TIME:20250907T080000
DTSTAMP;VALUE=DATE-TIME:20260422T205319Z
UID:4d830719797147a38b8d2d47a2f84a99@www.isprambiente.gov.it
CONTACT:https://www.fisiocritici.it/eventi/5033/-/raggio-verde
CREATED;VALUE=DATE-TIME:20250623T051251Z
LAST-MODIFIED;VALUE=DATE-TIME:20250623T051254Z
URL:https://www.isprambiente.gov.it/it/attivita/museo/calendario-eventi/20
 25/raggio-verde
END:VEVENT
BEGIN:VTIMEZONE
TZID:Europe/Berlin
X-LIC-LOCATION:Europe/Berlin
BEGIN:DAYLIGHT
DTSTART;VALUE=DATE-TIME:20250330T030000
TZNAME:CEST
TZOFFSETFROM:+0100
TZOFFSETTO:+0200
END:DAYLIGHT
END:VTIMEZONE
END:VCALENDAR
