BEGIN:VCALENDAR
VERSION:2.0
PRODID:-//Plone.org//NONSGML plone.app.event//EN
X-WR-TIMEZONE:Europe/Berlin
BEGIN:VEVENT
SUMMARY:RemTech Europe 2025
DTSTART;TZID=Europe/Berlin;VALUE=DATE-TIME:20250915T090000
DTEND;TZID=Europe/Berlin;VALUE=DATE-TIME:20250919T100000
DTSTAMP;VALUE=DATE-TIME:20260422T205350Z
UID:a43237f82d7e4cadae4c8fae17e6cb82@www.isprambiente.gov.it
CONTACT:https://www.cngeologi.it/2025/08/07/remtech-europe-2025/
CREATED;VALUE=DATE-TIME:20250901T070222Z
LAST-MODIFIED;VALUE=DATE-TIME:20250901T070226Z
URL:https://www.isprambiente.gov.it/it/attivita/museo/calendario-eventi/20
 25/remtech-europe-2025
END:VEVENT
BEGIN:VTIMEZONE
TZID:Europe/Berlin
X-LIC-LOCATION:Europe/Berlin
BEGIN:DAYLIGHT
DTSTART;VALUE=DATE-TIME:20250330T030000
TZNAME:CEST
TZOFFSETFROM:+0100
TZOFFSETTO:+0200
END:DAYLIGHT
END:VTIMEZONE
END:VCALENDAR
