BEGIN:VCALENDAR
VERSION:2.0
PRODID:-//Plone.org//NONSGML plone.app.event//EN
X-WR-TIMEZONE:Europe/Berlin
BEGIN:VEVENT
SUMMARY:Ricerca sulla Provenienza dei beni dal mondo in Italia
DTSTART;TZID=Europe/Berlin;VALUE=DATE-TIME:20250414T070000
DTEND;TZID=Europe/Berlin;VALUE=DATE-TIME:20250613T080000
DTSTAMP;VALUE=DATE-TIME:20260422T210237Z
UID:5ac8fb06099e4adb87a4467682817f4e@www.isprambiente.gov.it
CONTACT:https://www.icom-italia.org/ricerca-sulla-provenienza-dei-beni-dal
 -mondo-in-italia-serie-di-webinar-a-cura-del-gdl-provenienza/
CREATED;VALUE=DATE-TIME:20250414T052650Z
LAST-MODIFIED;VALUE=DATE-TIME:20250414T052658Z
URL:https://www.isprambiente.gov.it/it/attivita/museo/calendario-eventi/20
 25/ricerca-sulla-provenienza-dei-beni-dal-mondo-in-italia
END:VEVENT
BEGIN:VTIMEZONE
TZID:Europe/Berlin
X-LIC-LOCATION:Europe/Berlin
BEGIN:DAYLIGHT
DTSTART;VALUE=DATE-TIME:20250330T030000
TZNAME:CEST
TZOFFSETFROM:+0100
TZOFFSETTO:+0200
END:DAYLIGHT
END:VTIMEZONE
END:VCALENDAR
