BEGIN:VCALENDAR
VERSION:2.0
PRODID:-//Plone.org//NONSGML plone.app.event//EN
X-WR-TIMEZONE:Europe/Berlin
BEGIN:VEVENT
SUMMARY:Roma Mineral Show 2025
DTSTART;TZID=Europe/Berlin;VALUE=DATE-TIME:20251129T130000
DTEND;TZID=Europe/Berlin;VALUE=DATE-TIME:20251130T140000
DTSTAMP;VALUE=DATE-TIME:20260422T221514Z
UID:961fdc9fef974595b8e2d2c82f4023cd@www.isprambiente.gov.it
CONTACT:https://gminromano.it/roma-mineral-show/
CREATED;VALUE=DATE-TIME:20251127T121944Z
LAST-MODIFIED;VALUE=DATE-TIME:20251127T121950Z
URL:https://www.isprambiente.gov.it/it/attivita/museo/calendario-eventi/20
 25/roma-mineral-show-2025
END:VEVENT
BEGIN:VTIMEZONE
TZID:Europe/Berlin
X-LIC-LOCATION:Europe/Berlin
BEGIN:STANDARD
DTSTART;VALUE=DATE-TIME:20251026T020000
TZNAME:CET
TZOFFSETFROM:+0200
TZOFFSETTO:+0100
END:STANDARD
END:VTIMEZONE
END:VCALENDAR
