BEGIN:VCALENDAR
VERSION:2.0
PRODID:-//Plone.org//NONSGML plone.app.event//EN
X-WR-TIMEZONE:Europe/Berlin
BEGIN:VEVENT
SUMMARY:Sebastião Salgado Ghiacciai
DTSTART;TZID=Europe/Berlin;VALUE=DATE-TIME:20250422T080000
DTEND;TZID=Europe/Berlin;VALUE=DATE-TIME:20260111T090000
DTSTAMP;VALUE=DATE-TIME:20260422T205520Z
UID:a8ace8102ce04c2581e701c98c41e240@www.isprambiente.gov.it
CONTACT:https://www.muse.it/eventi/mostra-ghiacciai-sebastiao-salgado-2025
 /
CREATED;VALUE=DATE-TIME:20250422T060125Z
LAST-MODIFIED;VALUE=DATE-TIME:20250422T060135Z
URL:https://www.isprambiente.gov.it/it/attivita/museo/calendario-eventi/20
 25/sebastiao-salgado-ghiacciai
END:VEVENT
BEGIN:VTIMEZONE
TZID:Europe/Berlin
X-LIC-LOCATION:Europe/Berlin
BEGIN:DAYLIGHT
DTSTART;VALUE=DATE-TIME:20250330T030000
TZNAME:CEST
TZOFFSETFROM:+0100
TZOFFSETTO:+0200
END:DAYLIGHT
BEGIN:STANDARD
DTSTART;VALUE=DATE-TIME:20251026T020000
TZNAME:CET
TZOFFSETFROM:+0200
TZOFFSETTO:+0100
END:STANDARD
END:VTIMEZONE
END:VCALENDAR
