BEGIN:VCALENDAR
VERSION:2.0
PRODID:-//Plone.org//NONSGML plone.app.event//EN
X-WR-TIMEZONE:Europe/Berlin
BEGIN:VEVENT
SUMMARY:Secondo appuntamento Welfare Culturale "Pianificazione e valutazio
 ne dell’impatto nel settore museale"
DTSTART;TZID=Europe/Berlin;VALUE=DATE-TIME:20250611T090000
DTEND;TZID=Europe/Berlin;VALUE=DATE-TIME:20250611T100000
DTSTAMP;VALUE=DATE-TIME:20260422T210302Z
UID:4de64f927f3b4493b2643e1b47ad34d9@www.isprambiente.gov.it
CONTACT:https://www.icom-italia.org/gruppo-di-lavoro-welfare-culturale/
CREATED;VALUE=DATE-TIME:20250529T072554Z
LAST-MODIFIED;VALUE=DATE-TIME:20250529T072558Z
URL:https://www.isprambiente.gov.it/it/attivita/museo/calendario-eventi/20
 25/secondo-appuntamento-welfare-culturale-pianificazione-e-valutazione-del
 l2019impatto-nel-settore-museale
END:VEVENT
BEGIN:VTIMEZONE
TZID:Europe/Berlin
X-LIC-LOCATION:Europe/Berlin
BEGIN:DAYLIGHT
DTSTART;VALUE=DATE-TIME:20250330T030000
TZNAME:CEST
TZOFFSETFROM:+0100
TZOFFSETTO:+0200
END:DAYLIGHT
END:VTIMEZONE
END:VCALENDAR
