BEGIN:VCALENDAR
VERSION:2.0
PRODID:-//Plone.org//NONSGML plone.app.event//EN
X-WR-TIMEZONE:Europe/Berlin
BEGIN:VEVENT
SUMMARY:Seminario: “Il Radon. Un nemico invisibile per la salute. Quali 
 soluzioni per la mitigazione del rischio nelle abitazioni e nei luoghi di 
 lavoro?”
DTSTART;TZID=Europe/Berlin;VALUE=DATE-TIME:20250321T130000
DTEND;TZID=Europe/Berlin;VALUE=DATE-TIME:20250321T140000
DTSTAMP;VALUE=DATE-TIME:20260422T222631Z
UID:b12d407d5b164a0790c1d7a0f332b232@www.isprambiente.gov.it
CONTACT:https://www.cngeologi.it/2025/03/17/seminario-il-radon-un-nemico-i
 nvisibile-per-la-salute-quali-soluzioni-per-la-mitigazione-del-rischio-nel
 le-abitazioni-e-nei-luoghi-di-lavoro-trebisacce-21-marzo-2025/
CREATED;VALUE=DATE-TIME:20250318T124457Z
LAST-MODIFIED;VALUE=DATE-TIME:20250318T124501Z
URL:https://www.isprambiente.gov.it/it/attivita/museo/calendario-eventi/20
 25/seminario-201cil-radon-un-nemico-invisibile-per-la-salute-quali-soluzio
 ni-per-la-mitigazione-del-rischio-nelle-abitazioni-e-nei-luoghi-di-lavoro-
 201d
END:VEVENT
BEGIN:VTIMEZONE
TZID:Europe/Berlin
X-LIC-LOCATION:Europe/Berlin
BEGIN:STANDARD
DTSTART;VALUE=DATE-TIME:20241027T020000
TZNAME:CET
TZOFFSETFROM:+0200
TZOFFSETTO:+0100
END:STANDARD
END:VTIMEZONE
END:VCALENDAR
