BEGIN:VCALENDAR
VERSION:2.0
PRODID:-//Plone.org//NONSGML plone.app.event//EN
X-WR-TIMEZONE:Europe/Berlin
BEGIN:VEVENT
SUMMARY:Seminario “Musei\, Archivi e Biblioteche accessibili: un diritto
  per la cittadinanza”
DTSTART;TZID=Europe/Berlin;VALUE=DATE-TIME:20250912T090000
DTEND;TZID=Europe/Berlin;VALUE=DATE-TIME:20250912T100000
DTSTAMP;VALUE=DATE-TIME:20260422T205647Z
UID:eef0ec6e6d9b4920b5275a6d6127045f@www.isprambiente.gov.it
CONTACT:https://www.icom-italia.org/coordinamento-regionale-sardegna-semin
 ario-musei-archivi-e-biblioteche-accessibili-un-diritto-per-la-cittadinanz
 a-cagliari-mediateca-del-mediterraneo-e-online/
CREATED;VALUE=DATE-TIME:20250908T073918Z
LAST-MODIFIED;VALUE=DATE-TIME:20250908T073923Z
URL:https://www.isprambiente.gov.it/it/attivita/museo/calendario-eventi/20
 25/seminario-201cmusei-archivi-e-biblioteche-accessibili-un-diritto-per-la
 -cittadinanza201d
END:VEVENT
BEGIN:VTIMEZONE
TZID:Europe/Berlin
X-LIC-LOCATION:Europe/Berlin
BEGIN:DAYLIGHT
DTSTART;VALUE=DATE-TIME:20250330T030000
TZNAME:CEST
TZOFFSETFROM:+0100
TZOFFSETTO:+0200
END:DAYLIGHT
END:VTIMEZONE
END:VCALENDAR
