BEGIN:VCALENDAR
VERSION:2.0
PRODID:-//Plone.org//NONSGML plone.app.event//EN
X-WR-TIMEZONE:Europe/Berlin
BEGIN:VEVENT
SUMMARY:Sensibilizzazione con SAGacia25: secondo Simposio dell’Arte che 
 Guarda alla Scienza
DTSTART;TZID=Europe/Berlin;VALUE=DATE-TIME:20250422T080000
DTEND;TZID=Europe/Berlin;VALUE=DATE-TIME:20251003T090000
DTSTAMP;VALUE=DATE-TIME:20260422T210236Z
UID:cd6e26c741db4c7c9b3c27c7b1611978@www.isprambiente.gov.it
CONTACT:https://www.chimica404.it/sensibilizzazione-con-sagacia25-secondo-
 simposio-dellarte-che-guarda-alla-scienza/
CREATED;VALUE=DATE-TIME:20250422T060914Z
LAST-MODIFIED;VALUE=DATE-TIME:20250422T060917Z
URL:https://www.isprambiente.gov.it/it/attivita/museo/calendario-eventi/20
 25/sensibilizzazione-con-sagacia25-secondo-simposio-dell2019arte-che-guard
 a-alla-scienza
END:VEVENT
BEGIN:VTIMEZONE
TZID:Europe/Berlin
X-LIC-LOCATION:Europe/Berlin
BEGIN:DAYLIGHT
DTSTART;VALUE=DATE-TIME:20250330T030000
TZNAME:CEST
TZOFFSETFROM:+0100
TZOFFSETTO:+0200
END:DAYLIGHT
END:VTIMEZONE
END:VCALENDAR
