BEGIN:VCALENDAR
VERSION:2.0
PRODID:-//Plone.org//NONSGML plone.app.event//EN
X-WR-TIMEZONE:Europe/Berlin
BEGIN:VEVENT
SUMMARY:Serie di webinar: Cinque interviste per parlare di accessibilità 
 | A cura del GdL Accessibilità
DTSTART;TZID=Europe/Berlin;VALUE=DATE-TIME:20251023T070000
DTEND;TZID=Europe/Berlin;VALUE=DATE-TIME:20251110T080000
DTSTAMP;VALUE=DATE-TIME:20260422T210302Z
UID:a4800621ce4140e197743c6963f84456@www.isprambiente.gov.it
CONTACT:https://www.icom-italia.org/5-interviste-per-parlare-di-accessibil
 ita-online-13-ottobre-10-novembre-2025-a-cura-del-gdl-accessibilita/
CREATED;VALUE=DATE-TIME:20251023T054258Z
LAST-MODIFIED;VALUE=DATE-TIME:20251023T054310Z
URL:https://www.isprambiente.gov.it/it/attivita/museo/calendario-eventi/20
 25/serie-di-webinar-cinque-interviste-per-parlare-di-accessibilita-a-cura-
 del-gdl-accessibilita
END:VEVENT
BEGIN:VTIMEZONE
TZID:Europe/Berlin
X-LIC-LOCATION:Europe/Berlin
BEGIN:DAYLIGHT
DTSTART;VALUE=DATE-TIME:20250330T030000
TZNAME:CEST
TZOFFSETFROM:+0100
TZOFFSETTO:+0200
END:DAYLIGHT
BEGIN:STANDARD
DTSTART;VALUE=DATE-TIME:20251026T020000
TZNAME:CET
TZOFFSETFROM:+0200
TZOFFSETTO:+0100
END:STANDARD
END:VTIMEZONE
END:VCALENDAR
