BEGIN:VCALENDAR
VERSION:2.0
PRODID:-//Plone.org//NONSGML plone.app.event//EN
X-WR-TIMEZONE:Europe/Berlin
BEGIN:VEVENT
SUMMARY:Siena Mineral Expo 2025
DTSTART;TZID=Europe/Berlin;VALUE=DATE-TIME:20250426T110000
DTEND;TZID=Europe/Berlin;VALUE=DATE-TIME:20250427T120000
DTSTAMP;VALUE=DATE-TIME:20260422T205529Z
UID:500fccbf4f90435cabeb653c9a39ee9c@www.isprambiente.gov.it
CREATED;VALUE=DATE-TIME:20250408T095857Z
LAST-MODIFIED;VALUE=DATE-TIME:20250408T095910Z
URL:https://www.isprambiente.gov.it/it/attivita/museo/calendario-eventi/20
 25/siena-mineral-expo-2025
END:VEVENT
BEGIN:VTIMEZONE
TZID:Europe/Berlin
X-LIC-LOCATION:Europe/Berlin
BEGIN:DAYLIGHT
DTSTART;VALUE=DATE-TIME:20250330T030000
TZNAME:CEST
TZOFFSETFROM:+0100
TZOFFSETTO:+0200
END:DAYLIGHT
END:VTIMEZONE
END:VCALENDAR
