BEGIN:VCALENDAR
VERSION:2.0
PRODID:-//Plone.org//NONSGML plone.app.event//EN
X-WR-TIMEZONE:Europe/Berlin
BEGIN:VEVENT
SUMMARY:STUDIARE AL MUSEO/STUDIARE IL MUSEO | Quinta giornata di studi onl
 ine promossa da AMACI
DTSTART;TZID=Europe/Berlin;VALUE=DATE-TIME:20250328T080000
DTEND;TZID=Europe/Berlin;VALUE=DATE-TIME:20250328T090000
DTSTAMP;VALUE=DATE-TIME:20260422T222529Z
UID:313f8db3aaf14794ba44e8068706c635@www.isprambiente.gov.it
CONTACT:https://www.icom-italia.org/studiare-al-museo-studiare-il-museo-qu
 inta-giornata-di-studi-online-promossa-da-amaci/
CREATED;VALUE=DATE-TIME:20250328T072729Z
LAST-MODIFIED;VALUE=DATE-TIME:20250328T072745Z
URL:https://www.isprambiente.gov.it/it/attivita/museo/calendario-eventi/20
 25/studiare-al-museo-studiare-il-museo-quinta-giornata-di-studi-online-pro
 mossa-da-amaci
END:VEVENT
BEGIN:VTIMEZONE
TZID:Europe/Berlin
X-LIC-LOCATION:Europe/Berlin
BEGIN:STANDARD
DTSTART;VALUE=DATE-TIME:20241027T020000
TZNAME:CET
TZOFFSETFROM:+0200
TZOFFSETTO:+0100
END:STANDARD
END:VTIMEZONE
END:VCALENDAR
