BEGIN:VCALENDAR
VERSION:2.0
PRODID:-//Plone.org//NONSGML plone.app.event//EN
X-WR-TIMEZONE:Europe/Berlin
BEGIN:VEVENT
SUMMARY:Sui Cristalli di Gesso
DTSTART;TZID=Europe/Berlin;VALUE=DATE-TIME:20250907T090000
DTEND;TZID=Europe/Berlin;VALUE=DATE-TIME:20251005T100000
DTSTAMP;VALUE=DATE-TIME:20260422T221447Z
UID:3e2eacbae64c41d9a124b43ad8d98fbf@www.isprambiente.gov.it
CONTACT:https://www.parks.it/news/dettaglio.php?id=83969
CREATED;VALUE=DATE-TIME:20250901T070759Z
LAST-MODIFIED;VALUE=DATE-TIME:20250901T070803Z
URL:https://www.isprambiente.gov.it/it/attivita/museo/calendario-eventi/20
 25/sui-cristalli-di-gesso
END:VEVENT
BEGIN:VTIMEZONE
TZID:Europe/Berlin
X-LIC-LOCATION:Europe/Berlin
BEGIN:DAYLIGHT
DTSTART;VALUE=DATE-TIME:20250330T030000
TZNAME:CEST
TZOFFSETFROM:+0100
TZOFFSETTO:+0200
END:DAYLIGHT
END:VTIMEZONE
END:VCALENDAR
