BEGIN:VCALENDAR
VERSION:2.0
PRODID:-//Plone.org//NONSGML plone.app.event//EN
X-WR-TIMEZONE:Europe/Berlin
BEGIN:VEVENT
SUMMARY:SVP 2025 Annual Meeting
DTSTART;TZID=Europe/Berlin;VALUE=DATE-TIME:20251112T070000
DTEND;TZID=Europe/Berlin;VALUE=DATE-TIME:20251115T080000
DTSTAMP;VALUE=DATE-TIME:20260422T210114Z
UID:1756dcbf42b1481db4a651bafd08ce1d@www.isprambiente.gov.it
CREATED;VALUE=DATE-TIME:20251107T064353Z
LAST-MODIFIED;VALUE=DATE-TIME:20251107T064357Z
URL:https://www.isprambiente.gov.it/it/attivita/museo/calendario-eventi/20
 25/svp-2025-annual-meeting
END:VEVENT
BEGIN:VTIMEZONE
TZID:Europe/Berlin
X-LIC-LOCATION:Europe/Berlin
BEGIN:STANDARD
DTSTART;VALUE=DATE-TIME:20251026T020000
TZNAME:CET
TZOFFSETFROM:+0200
TZOFFSETTO:+0100
END:STANDARD
END:VTIMEZONE
END:VCALENDAR
