BEGIN:VCALENDAR
VERSION:2.0
PRODID:-//Plone.org//NONSGML plone.app.event//EN
X-WR-TIMEZONE:Europe/Berlin
BEGIN:VEVENT
SUMMARY:Tra passato e presente: il clima in tre reazioni chimiche
DTSTART;TZID=Europe/Berlin;VALUE=DATE-TIME:20250312T100000
DTEND;TZID=Europe/Berlin;VALUE=DATE-TIME:20250312T110000
DTSTAMP;VALUE=DATE-TIME:20260422T210130Z
UID:702edb8565ad4cbabcd17470b052660b@www.isprambiente.gov.it
CONTACT:https://www.msn.unipi.it/it/eventi/tra-passato-e-presente-il-clima
 -in-tre-reazioni-chimiche/
CREATED;VALUE=DATE-TIME:20250311T091148Z
LAST-MODIFIED;VALUE=DATE-TIME:20250311T091152Z
URL:https://www.isprambiente.gov.it/it/attivita/museo/calendario-eventi/20
 25/tra-passato-e-presente-il-clima-in-tre-reazioni-chimiche
END:VEVENT
BEGIN:VTIMEZONE
TZID:Europe/Berlin
X-LIC-LOCATION:Europe/Berlin
BEGIN:STANDARD
DTSTART;VALUE=DATE-TIME:20241027T020000
TZNAME:CET
TZOFFSETFROM:+0200
TZOFFSETTO:+0100
END:STANDARD
END:VTIMEZONE
END:VCALENDAR
