BEGIN:VCALENDAR
VERSION:2.0
PRODID:-//Plone.org//NONSGML plone.app.event//EN
X-WR-TIMEZONE:Europe/Berlin
BEGIN:VEVENT
SUMMARY:TRENT'ANNI DI ALTRI MONDI
DTSTART;TZID=Europe/Berlin;VALUE=DATE-TIME:20251117T070000
DTEND;TZID=Europe/Berlin;VALUE=DATE-TIME:20251117T080000
DTSTAMP;VALUE=DATE-TIME:20260422T210140Z
UID:822ce7a9614c4a148b15ed004b393470@www.isprambiente.gov.it
CONTACT:https://www.planetarioditorino.it/astronomy-day-2025
CREATED;VALUE=DATE-TIME:20251107T064745Z
LAST-MODIFIED;VALUE=DATE-TIME:20251107T064755Z
URL:https://www.isprambiente.gov.it/it/attivita/museo/calendario-eventi/20
 25/trentanni-di-altri-mondi
END:VEVENT
BEGIN:VTIMEZONE
TZID:Europe/Berlin
X-LIC-LOCATION:Europe/Berlin
BEGIN:STANDARD
DTSTART;VALUE=DATE-TIME:20251026T020000
TZNAME:CET
TZOFFSETFROM:+0200
TZOFFSETTO:+0100
END:STANDARD
END:VTIMEZONE
END:VCALENDAR
