BEGIN:VCALENDAR
VERSION:2.0
PRODID:-//Plone.org//NONSGML plone.app.event//EN
X-WR-TIMEZONE:Europe/Berlin
BEGIN:VEVENT
SUMMARY:Un patto sul futuro\, anche nell’interesse delle future generazi
 oni
DTSTART;TZID=Europe/Berlin;VALUE=DATE-TIME:20251202T070000
DTEND;TZID=Europe/Berlin;VALUE=DATE-TIME:20251202T080000
DTSTAMP;VALUE=DATE-TIME:20260422T210302Z
UID:94a4063d40084b75981fd8d5ffb3e72a@www.isprambiente.gov.it
CONTACT:https://asvis.it/notizie-sull-alleanza/19-24333/il-2-dicembre-arri
 va-il-future-day-levento-asvis-sui-futuri-possibili
CREATED;VALUE=DATE-TIME:20251128T063354Z
LAST-MODIFIED;VALUE=DATE-TIME:20251128T063358Z
URL:https://www.isprambiente.gov.it/it/attivita/museo/calendario-eventi/20
 25/un-patto-sul-futuro-anche-nell2019interesse-delle-future-generazioni
END:VEVENT
BEGIN:VTIMEZONE
TZID:Europe/Berlin
X-LIC-LOCATION:Europe/Berlin
BEGIN:STANDARD
DTSTART;VALUE=DATE-TIME:20251026T020000
TZNAME:CET
TZOFFSETFROM:+0200
TZOFFSETTO:+0100
END:STANDARD
END:VTIMEZONE
END:VCALENDAR
