BEGIN:VCALENDAR
VERSION:2.0
PRODID:-//Plone.org//NONSGML plone.app.event//EN
X-WR-TIMEZONE:Europe/Berlin
BEGIN:VEVENT
SUMMARY:Un percorso per conoscere la geologia locale. Preserviamo il Bosco
  delle Sette Valli nelle Gole del Fersinone
DTSTART;TZID=Europe/Berlin;VALUE=DATE-TIME:20250316T070000
DTEND;TZID=Europe/Berlin;VALUE=DATE-TIME:20250316T080000
DTSTAMP;VALUE=DATE-TIME:20260422T211054Z
UID:b7a3a273426441a7acf31293aef504c1@www.isprambiente.gov.it
CONTACT:https://www.anms.it/eventi/dettaglio_evento/7288#
CREATED;VALUE=DATE-TIME:20250314T062731Z
LAST-MODIFIED;VALUE=DATE-TIME:20250314T062738Z
URL:https://www.isprambiente.gov.it/it/attivita/museo/calendario-eventi/20
 25/un-percorso-per-conoscere-la-geologia-locale-preserviamo-il-bosco-delle
 -sette-valli-nelle-gole-del-fersinone
END:VEVENT
BEGIN:VTIMEZONE
TZID:Europe/Berlin
X-LIC-LOCATION:Europe/Berlin
BEGIN:STANDARD
DTSTART;VALUE=DATE-TIME:20241027T020000
TZNAME:CET
TZOFFSETFROM:+0200
TZOFFSETTO:+0100
END:STANDARD
END:VTIMEZONE
END:VCALENDAR
