BEGIN:VCALENDAR
VERSION:2.0
PRODID:-//Plone.org//NONSGML plone.app.event//EN
X-WR-TIMEZONE:Europe/Berlin
BEGIN:VEVENT
SUMMARY:Un suono in estinzione
DTSTART;TZID=Europe/Berlin;VALUE=DATE-TIME:20250705T130000
DTEND;TZID=Europe/Berlin;VALUE=DATE-TIME:20250714T140000
DTSTAMP;VALUE=DATE-TIME:20260422T210140Z
UID:e47664b1e32c4e98aad9ae87ad5fa316@www.isprambiente.gov.it
CONTACT:https://www.muse.it/eventi/un-suono-in-estinzione-ascolta-la-voce-
 del-ghiacciaio-2025/
CREATED;VALUE=DATE-TIME:20250630T113507Z
LAST-MODIFIED;VALUE=DATE-TIME:20250630T113512Z
URL:https://www.isprambiente.gov.it/it/attivita/museo/calendario-eventi/20
 25/un-suono-in-estinzione
END:VEVENT
BEGIN:VTIMEZONE
TZID:Europe/Berlin
X-LIC-LOCATION:Europe/Berlin
BEGIN:DAYLIGHT
DTSTART;VALUE=DATE-TIME:20250330T030000
TZNAME:CEST
TZOFFSETFROM:+0100
TZOFFSETTO:+0200
END:DAYLIGHT
END:VTIMEZONE
END:VCALENDAR
