BEGIN:VCALENDAR
VERSION:2.0
PRODID:-//Plone.org//NONSGML plone.app.event//EN
X-WR-TIMEZONE:Europe/Berlin
BEGIN:VEVENT
SUMMARY:Una maestra ospedaliera tra i musei di Firenze
DTSTART;TZID=Europe/Berlin;VALUE=DATE-TIME:20251203T070000
DTEND;TZID=Europe/Berlin;VALUE=DATE-TIME:20251203T080000
DTSTAMP;VALUE=DATE-TIME:20260422T210145Z
UID:8097791ec8914f72a547fe570cc3db5b@www.isprambiente.gov.it
CONTACT:https://www.museogalileo.it/it/attivita/calendario/lista-attivita/
 una-maestra-ospedaliera-tra-i-musei-di-firenze.html
CREATED;VALUE=DATE-TIME:20251128T063254Z
LAST-MODIFIED;VALUE=DATE-TIME:20251128T063302Z
URL:https://www.isprambiente.gov.it/it/attivita/museo/calendario-eventi/20
 25/una-maestra-ospedaliera-tra-i-musei-di-firenze
END:VEVENT
BEGIN:VTIMEZONE
TZID:Europe/Berlin
X-LIC-LOCATION:Europe/Berlin
BEGIN:STANDARD
DTSTART;VALUE=DATE-TIME:20251026T020000
TZNAME:CET
TZOFFSETFROM:+0200
TZOFFSETTO:+0100
END:STANDARD
END:VTIMEZONE
END:VCALENDAR
