BEGIN:VCALENDAR
VERSION:2.0
PRODID:-//Plone.org//NONSGML plone.app.event//EN
X-WR-TIMEZONE:Europe/Berlin
BEGIN:VEVENT
SUMMARY:Val d’Ambria: tracce di vita preistorica. I fossili della valle 
 raccontano come era il mondo 280 milioni di anni fa
DTSTART;TZID=Europe/Berlin;VALUE=DATE-TIME:20251121T090000
DTEND;TZID=Europe/Berlin;VALUE=DATE-TIME:20251130T100000
DTSTAMP;VALUE=DATE-TIME:20260422T211042Z
UID:9f497a529ba443b0a088026e0dd134fb@www.isprambiente.gov.it
CONTACT:https://www.unipv.news/eventi/val-dambria-tracce-di-vita-preistori
 ca-i-fossili-della-valle-raccontano-come-era-il-mondo
CREATED;VALUE=DATE-TIME:20251120T082100Z
LAST-MODIFIED;VALUE=DATE-TIME:20251120T082104Z
URL:https://www.isprambiente.gov.it/it/attivita/museo/calendario-eventi/20
 25/val-d2019ambria-tracce-di-vita-preistorica-i-fossili-della-valle-raccon
 tano-come-era-il-mondo-280-milioni-di-anni-fa
END:VEVENT
BEGIN:VTIMEZONE
TZID:Europe/Berlin
X-LIC-LOCATION:Europe/Berlin
BEGIN:STANDARD
DTSTART;VALUE=DATE-TIME:20251026T020000
TZNAME:CET
TZOFFSETFROM:+0200
TZOFFSETTO:+0100
END:STANDARD
END:VTIMEZONE
END:VCALENDAR
