BEGIN:VCALENDAR
VERSION:2.0
PRODID:-//Plone.org//NONSGML plone.app.event//EN
X-WR-TIMEZONE:Europe/Berlin
BEGIN:VEVENT
SUMMARY:Verona Mineral Show
DTSTART;TZID=Europe/Berlin;VALUE=DATE-TIME:20250523T090000
DTEND;TZID=Europe/Berlin;VALUE=DATE-TIME:20250525T100000
DTSTAMP;VALUE=DATE-TIME:20260422T221447Z
UID:dc26fc7821c7474888c7eb3a336d9dd7@www.isprambiente.gov.it
CREATED;VALUE=DATE-TIME:20250509T072905Z
LAST-MODIFIED;VALUE=DATE-TIME:20250509T072908Z
URL:https://www.isprambiente.gov.it/it/attivita/museo/calendario-eventi/20
 25/verona-mineral-show
END:VEVENT
BEGIN:VTIMEZONE
TZID:Europe/Berlin
X-LIC-LOCATION:Europe/Berlin
BEGIN:DAYLIGHT
DTSTART;VALUE=DATE-TIME:20250330T030000
TZNAME:CEST
TZOFFSETFROM:+0100
TZOFFSETTO:+0200
END:DAYLIGHT
END:VTIMEZONE
END:VCALENDAR
