BEGIN:VCALENDAR
VERSION:2.0
PRODID:-//Plone.org//NONSGML plone.app.event//EN
X-WR-TIMEZONE:Europe/Berlin
BEGIN:VEVENT
SUMMARY:Visita guidata notturna
DTSTART;TZID=Europe/Berlin;VALUE=DATE-TIME:20251207T080000
DTEND;TZID=Europe/Berlin;VALUE=DATE-TIME:20251207T090000
DTSTAMP;VALUE=DATE-TIME:20260422T221446Z
UID:2cbb6b07526a4970a19a3c3e3ba8a192@www.isprambiente.gov.it
CONTACT:https://www.anms.it/eventi/dettaglio_evento/7730
CREATED;VALUE=DATE-TIME:20251205T074514Z
LAST-MODIFIED;VALUE=DATE-TIME:20251205T074518Z
URL:https://www.isprambiente.gov.it/it/attivita/museo/calendario-eventi/20
 25/visita-guidata-notturna
END:VEVENT
BEGIN:VTIMEZONE
TZID:Europe/Berlin
X-LIC-LOCATION:Europe/Berlin
BEGIN:STANDARD
DTSTART;VALUE=DATE-TIME:20251026T020000
TZNAME:CET
TZOFFSETFROM:+0200
TZOFFSETTO:+0100
END:STANDARD
END:VTIMEZONE
END:VCALENDAR
