BEGIN:VCALENDAR
VERSION:2.0
PRODID:-//Plone.org//NONSGML plone.app.event//EN
X-WR-TIMEZONE:Europe/Berlin
BEGIN:VEVENT
SUMMARY:Webinar "ISOLE GALAPAGOS: un "Museo a cielo aperto" per la Biodive
 rsità"
DTSTART;TZID=Europe/Berlin;VALUE=DATE-TIME:20250522T120000
DTEND;TZID=Europe/Berlin;VALUE=DATE-TIME:20250522T130000
DTSTAMP;VALUE=DATE-TIME:20260422T210144Z
UID:03bb2dca8c7d4327b13eb1e609b56769@www.isprambiente.gov.it
CREATED;VALUE=DATE-TIME:20250516T105956Z
LAST-MODIFIED;VALUE=DATE-TIME:20250516T110000Z
URL:https://www.isprambiente.gov.it/it/attivita/museo/calendario-eventi/20
 25/webinar-isole-galapagos-un-museo-a-cielo-aperto-per-la-biodiversita
END:VEVENT
BEGIN:VTIMEZONE
TZID:Europe/Berlin
X-LIC-LOCATION:Europe/Berlin
BEGIN:DAYLIGHT
DTSTART;VALUE=DATE-TIME:20250330T030000
TZNAME:CEST
TZOFFSETFROM:+0100
TZOFFSETTO:+0200
END:DAYLIGHT
END:VTIMEZONE
END:VCALENDAR
