BEGIN:VCALENDAR
VERSION:2.0
PRODID:-//Plone.org//NONSGML plone.app.event//EN
X-WR-TIMEZONE:Europe/Berlin
BEGIN:VEVENT
SUMMARY:Webinar PaiP — V Edizione 2025 — Secondo appuntamento
DTSTART;TZID=Europe/Berlin;VALUE=DATE-TIME:20251021T110000
DTEND;TZID=Europe/Berlin;VALUE=DATE-TIME:20251021T120000
DTSTAMP;VALUE=DATE-TIME:20260422T210140Z
UID:16c4a9ebd8df491997398c756e2a46dd@www.isprambiente.gov.it
CONTACT:https://www.socgeol.it/N6821/webinar-paip-v-edizione-2025-secondo-
 appuntamento.html
CREATED;VALUE=DATE-TIME:20251007T091128Z
LAST-MODIFIED;VALUE=DATE-TIME:20251007T091131Z
URL:https://www.isprambiente.gov.it/it/attivita/museo/calendario-eventi/20
 25/webinar-paip-2014-v-edizione-2025-2014-secondo-appuntamento
END:VEVENT
BEGIN:VTIMEZONE
TZID:Europe/Berlin
X-LIC-LOCATION:Europe/Berlin
BEGIN:DAYLIGHT
DTSTART;VALUE=DATE-TIME:20250330T030000
TZNAME:CEST
TZOFFSETFROM:+0100
TZOFFSETTO:+0200
END:DAYLIGHT
END:VTIMEZONE
END:VCALENDAR
