BEGIN:VCALENDAR
VERSION:2.0
PRODID:-//Plone.org//NONSGML plone.app.event//EN
X-WR-TIMEZONE:Europe/Berlin
BEGIN:VEVENT
SUMMARY:Webinar Sezione Georisorse ed Energia – Natural hydrogen (H2)\, 
 from hypes to science to exploration: uncertainties and recommendations
DTSTART;TZID=Europe/Berlin;VALUE=DATE-TIME:20251114T090000
DTEND;TZID=Europe/Berlin;VALUE=DATE-TIME:20251114T100000
DTSTAMP;VALUE=DATE-TIME:20260422T210308Z
UID:22728afc9e0e4daa8714ff991020f0aa@www.isprambiente.gov.it
CONTACT:https://www.socgeol.it/N6879/avviso-webinar-sezione-georisorse-ed-
 energia-natural-hydrogen-h2-from-hypes-to-science-to-exploration-uncertain
 ties-and-recommendations-14-novembre-2025.html
CREATED;VALUE=DATE-TIME:20251112T085426Z
LAST-MODIFIED;VALUE=DATE-TIME:20251112T085437Z
URL:https://www.isprambiente.gov.it/it/attivita/museo/calendario-eventi/20
 25/webinar-sezione-georisorse-ed-energia-2013-natural-hydrogen-h2-from-hyp
 es-to-science-to-exploration-uncertainties-and-recommendations
END:VEVENT
BEGIN:VTIMEZONE
TZID:Europe/Berlin
X-LIC-LOCATION:Europe/Berlin
BEGIN:STANDARD
DTSTART;VALUE=DATE-TIME:20251026T020000
TZNAME:CET
TZOFFSETFROM:+0200
TZOFFSETTO:+0100
END:STANDARD
END:VTIMEZONE
END:VCALENDAR
