BEGIN:VCALENDAR
VERSION:2.0
PRODID:-//Plone.org//NONSGML plone.app.event//EN
X-WR-TIMEZONE:Europe/Berlin
BEGIN:VEVENT
SUMMARY:Workshop “Tecnologie satellitari e analisi multi-rischio: l’es
 perienza dei progetti I4DP_SCIENCE e prospettive future”
DTSTART;TZID=Europe/Berlin;VALUE=DATE-TIME:20250527T100000
DTEND;TZID=Europe/Berlin;VALUE=DATE-TIME:20250528T110000
DTSTAMP;VALUE=DATE-TIME:20260422T210140Z
UID:74aaca7ce08842b0a869cddc948f7741@www.isprambiente.gov.it
CONTACT:https://www.asi.it/event/workshop-tecnologie-satellitari-e-analisi
 -multi-rischio-lesperienza-dei-progetti-i4dp_science-e-prospettive-future/
CREATED;VALUE=DATE-TIME:20250520T083644Z
LAST-MODIFIED;VALUE=DATE-TIME:20250520T083648Z
URL:https://www.isprambiente.gov.it/it/attivita/museo/calendario-eventi/20
 25/workshop-201ctecnologie-satellitari-e-analisi-multi-rischio-l2019esperi
 enza-dei-progetti-i4dp_science-e-prospettive-future201d
END:VEVENT
BEGIN:VTIMEZONE
TZID:Europe/Berlin
X-LIC-LOCATION:Europe/Berlin
BEGIN:DAYLIGHT
DTSTART;VALUE=DATE-TIME:20250330T030000
TZNAME:CEST
TZOFFSETFROM:+0100
TZOFFSETTO:+0200
END:DAYLIGHT
END:VTIMEZONE
END:VCALENDAR
