BEGIN:VCALENDAR
VERSION:2.0
PRODID:-//Plone.org//NONSGML plone.app.event//EN
X-WR-TIMEZONE:Europe/Berlin
BEGIN:VEVENT
SUMMARY:World Olive Tree Day
DTSTART;TZID=Europe/Berlin;VALUE=DATE-TIME:20251126T090000
DTEND;TZID=Europe/Berlin;VALUE=DATE-TIME:20251126T100000
DTSTAMP;VALUE=DATE-TIME:20260422T221217Z
UID:78c48a2bdefc496786023f3479addad5@www.isprambiente.gov.it
CONTACT:https://www.unesco.org/en/days/world-olive-tree
CREATED;VALUE=DATE-TIME:20251120T081946Z
LAST-MODIFIED;VALUE=DATE-TIME:20251120T081951Z
URL:https://www.isprambiente.gov.it/it/attivita/museo/calendario-eventi/20
 25/world-olive-tree-day
END:VEVENT
BEGIN:VTIMEZONE
TZID:Europe/Berlin
X-LIC-LOCATION:Europe/Berlin
BEGIN:STANDARD
DTSTART;VALUE=DATE-TIME:20251026T020000
TZNAME:CET
TZOFFSETFROM:+0200
TZOFFSETTO:+0100
END:STANDARD
END:VTIMEZONE
END:VCALENDAR
