BEGIN:VCALENDAR
VERSION:2.0
PRODID:-//Plone.org//NONSGML plone.app.event//EN
X-WR-TIMEZONE:Europe/Berlin
BEGIN:VEVENT
SUMMARY:XII Mostra di Minerali\, Gemme e Fossili
DTSTART;TZID=Europe/Berlin;VALUE=DATE-TIME:20250906T090000
DTEND;TZID=Europe/Berlin;VALUE=DATE-TIME:20250907T100000
DTSTAMP;VALUE=DATE-TIME:20260422T205647Z
UID:9dc305ccb1a547f1aca9581f0095f855@www.isprambiente.gov.it
CREATED;VALUE=DATE-TIME:20250901T070504Z
LAST-MODIFIED;VALUE=DATE-TIME:20250901T070507Z
URL:https://www.isprambiente.gov.it/it/attivita/museo/calendario-eventi/20
 25/xii-mostra-di-minerali-gemme-e-fossili
END:VEVENT
BEGIN:VTIMEZONE
TZID:Europe/Berlin
X-LIC-LOCATION:Europe/Berlin
BEGIN:DAYLIGHT
DTSTART;VALUE=DATE-TIME:20250330T030000
TZNAME:CEST
TZOFFSETFROM:+0100
TZOFFSETTO:+0200
END:DAYLIGHT
END:VTIMEZONE
END:VCALENDAR
