BEGIN:VCALENDAR
VERSION:2.0
PRODID:-//Plone.org//NONSGML plone.app.event//EN
X-WR-TIMEZONE:Europe/Berlin
BEGIN:VEVENT
SUMMARY:XXII Workshop di Geofisica - Tra geologia e geofisica 2025
DTSTART;TZID=Europe/Berlin;VALUE=DATE-TIME:20251212T080000
DTEND;TZID=Europe/Berlin;VALUE=DATE-TIME:20251212T090000
DTSTAMP;VALUE=DATE-TIME:20260422T210904Z
UID:229e13f36b694ff398b7292dfe44ff5a@www.isprambiente.gov.it
CONTACT:https://www.fondazionemcr.it/events_detail.jsp?IDAREA=5&ID_EVENT=2
 799&GTEMPLATE=eventi.jsp
CREATED;VALUE=DATE-TIME:20251205T074750Z
LAST-MODIFIED;VALUE=DATE-TIME:20251205T074754Z
URL:https://www.isprambiente.gov.it/it/attivita/museo/calendario-eventi/20
 25/xxii-workshop-di-geofisica-tra-geologia-e-geofisica-2025
END:VEVENT
BEGIN:VTIMEZONE
TZID:Europe/Berlin
X-LIC-LOCATION:Europe/Berlin
BEGIN:STANDARD
DTSTART;VALUE=DATE-TIME:20251026T020000
TZNAME:CET
TZOFFSETFROM:+0200
TZOFFSETTO:+0100
END:STANDARD
END:VTIMEZONE
END:VCALENDAR
