BEGIN:VCALENDAR
VERSION:2.0
PRODID:-//Plone.org//NONSGML plone.app.event//EN
X-WR-TIMEZONE:Europe/Berlin
BEGIN:VEVENT
SUMMARY:XXIV Giornata dell'Acqua - Giornata mondiale dei ghiacciai
DTSTART;TZID=Europe/Berlin;VALUE=DATE-TIME:20250321T070000
DTEND;TZID=Europe/Berlin;VALUE=DATE-TIME:20250321T080000
DTSTAMP;VALUE=DATE-TIME:20260422T210309Z
UID:54f2d60f223f47aab448ff97189e190b@www.isprambiente.gov.it
CONTACT:https://www.lincei.it/it/manifestazioni/xxiv-giornata-dellacqua
CREATED;VALUE=DATE-TIME:20250314T062832Z
LAST-MODIFIED;VALUE=DATE-TIME:20250314T062835Z
URL:https://www.isprambiente.gov.it/it/attivita/museo/calendario-eventi/20
 25/xxiv-giornata-dellacqua-giornata-mondiale-dei-ghiacciai
END:VEVENT
BEGIN:VTIMEZONE
TZID:Europe/Berlin
X-LIC-LOCATION:Europe/Berlin
BEGIN:STANDARD
DTSTART;VALUE=DATE-TIME:20241027T020000
TZNAME:CET
TZOFFSETFROM:+0200
TZOFFSETTO:+0100
END:STANDARD
END:VTIMEZONE
END:VCALENDAR
