BEGIN:VCALENDAR
VERSION:2.0
PRODID:-//Plone.org//NONSGML plone.app.event//EN
X-WR-TIMEZONE:Europe/Berlin
BEGIN:VEVENT
SUMMARY:XXXIV CONGRESSO ANMS - CONOSCERE PER CONSERVARE: LE COLLEZIONI SCI
 ENTIFICHE TRA RICERCA\, TUTELA E VALORIZZAZIONE
DTSTART;TZID=Europe/Berlin;VALUE=DATE-TIME:20250914T090000
DTEND;TZID=Europe/Berlin;VALUE=DATE-TIME:20250917T100000
DTSTAMP;VALUE=DATE-TIME:20260422T210308Z
UID:fab96031585845acbb70fd9169af481a@www.isprambiente.gov.it
CREATED;VALUE=DATE-TIME:20250908T074114Z
LAST-MODIFIED;VALUE=DATE-TIME:20250908T074119Z
URL:https://www.isprambiente.gov.it/it/attivita/museo/calendario-eventi/20
 25/xxxiv-congresso-anms-conoscere-per-conservare-le-collezioni-scientifich
 e-tra-ricerca-tutela-e-valorizzazione
END:VEVENT
BEGIN:VTIMEZONE
TZID:Europe/Berlin
X-LIC-LOCATION:Europe/Berlin
BEGIN:DAYLIGHT
DTSTART;VALUE=DATE-TIME:20250330T030000
TZNAME:CEST
TZOFFSETFROM:+0100
TZOFFSETTO:+0200
END:DAYLIGHT
END:VTIMEZONE
END:VCALENDAR
