BEGIN:VCALENDAR
VERSION:2.0
PRODID:-//Plone.org//NONSGML plone.app.event//EN
X-WR-TIMEZONE:Europe/Berlin
BEGIN:VEVENT
SUMMARY:24° GENOVAMINERALSHOW
DTSTART;TZID=Europe/Berlin;VALUE=DATE-TIME:20260425T130000
DTEND;TZID=Europe/Berlin;VALUE=DATE-TIME:20260426T140000
DTSTAMP;VALUE=DATE-TIME:20260423T121809Z
UID:17883c93d7f94f38a78cb71b7cc41cb9@www.isprambiente.gov.it
CREATED;VALUE=DATE-TIME:20260327T122756Z
LAST-MODIFIED;VALUE=DATE-TIME:20260327T122800Z
URL:https://www.isprambiente.gov.it/it/attivita/museo/calendario-eventi/20
 26/24deg-genovamineralshow
END:VEVENT
BEGIN:VTIMEZONE
TZID:Europe/Berlin
X-LIC-LOCATION:Europe/Berlin
BEGIN:DAYLIGHT
DTSTART;VALUE=DATE-TIME:20260329T030000
TZNAME:CEST
TZOFFSETFROM:+0100
TZOFFSETTO:+0200
END:DAYLIGHT
END:VTIMEZONE
END:VCALENDAR
