BEGIN:VCALENDAR
VERSION:2.0
PRODID:-//Plone.org//NONSGML plone.app.event//EN
X-WR-TIMEZONE:Europe/Berlin
BEGIN:VEVENT
SUMMARY:56° Earth Day
DTSTART;TZID=Europe/Berlin;VALUE=DATE-TIME:20260422T130000
DTEND;TZID=Europe/Berlin;VALUE=DATE-TIME:20260422T140000
DTSTAMP;VALUE=DATE-TIME:20260423T121729Z
UID:7254b5ec791747439a129008865c2e27@www.isprambiente.gov.it
CREATED;VALUE=DATE-TIME:20260327T122255Z
LAST-MODIFIED;VALUE=DATE-TIME:20260327T122302Z
URL:https://www.isprambiente.gov.it/it/attivita/museo/calendario-eventi/20
 26/56deg-earth-day
END:VEVENT
BEGIN:VTIMEZONE
TZID:Europe/Berlin
X-LIC-LOCATION:Europe/Berlin
BEGIN:DAYLIGHT
DTSTART;VALUE=DATE-TIME:20260329T030000
TZNAME:CEST
TZOFFSETFROM:+0100
TZOFFSETTO:+0200
END:DAYLIGHT
END:VTIMEZONE
END:VCALENDAR
