BEGIN:VCALENDAR
VERSION:2.0
PRODID:-//Plone.org//NONSGML plone.app.event//EN
X-WR-TIMEZONE:Europe/Berlin
BEGIN:VEVENT
SUMMARY:CHE COS'E' UN PODCAST? Storia e successo di un formato
DTSTART;TZID=Europe/Berlin;VALUE=DATE-TIME:20260414T130000
DTEND;TZID=Europe/Berlin;VALUE=DATE-TIME:20260414T140000
DTSTAMP;VALUE=DATE-TIME:20260423T122016Z
UID:aeef4da42f194f3b821d0a35af7df647@www.isprambiente.gov.it
CREATED;VALUE=DATE-TIME:20260327T121126Z
LAST-MODIFIED;VALUE=DATE-TIME:20260327T121135Z
URL:https://www.isprambiente.gov.it/it/attivita/museo/calendario-eventi/20
 26/che-cose-un-podcast-storia-e-successo-di-un-formato
END:VEVENT
BEGIN:VTIMEZONE
TZID:Europe/Berlin
X-LIC-LOCATION:Europe/Berlin
BEGIN:DAYLIGHT
DTSTART;VALUE=DATE-TIME:20260329T030000
TZNAME:CEST
TZOFFSETFROM:+0100
TZOFFSETTO:+0200
END:DAYLIGHT
END:VTIMEZONE
END:VCALENDAR
