BEGIN:VCALENDAR
VERSION:2.0
PRODID:-//Plone.org//NONSGML plone.app.event//EN
X-WR-TIMEZONE:Europe/Berlin
BEGIN:VEVENT
SUMMARY:Colazione al museo - Le botteghe della scienza
DTSTART;TZID=Europe/Berlin;VALUE=DATE-TIME:20260112T100000
DTEND;TZID=Europe/Berlin;VALUE=DATE-TIME:20260329T110000
DTSTAMP;VALUE=DATE-TIME:20260420T104813Z
UID:9a6c811179e54fbda5c3bf4751b61142@www.isprambiente.gov.it
CONTACT:https://biglietteria.museogalileo.it/prenota-visita-guidata.php?vi
 sita_guidata_id=6
CREATED;VALUE=DATE-TIME:20260112T093855Z
LAST-MODIFIED;VALUE=DATE-TIME:20260112T093922Z
URL:https://www.isprambiente.gov.it/it/attivita/museo/calendario-eventi/20
 26/colazione-al-museo-le-botteghe-della-scienza
END:VEVENT
BEGIN:VTIMEZONE
TZID:Europe/Berlin
X-LIC-LOCATION:Europe/Berlin
BEGIN:STANDARD
DTSTART;VALUE=DATE-TIME:20251026T020000
TZNAME:CET
TZOFFSETFROM:+0200
TZOFFSETTO:+0100
END:STANDARD
BEGIN:DAYLIGHT
DTSTART;VALUE=DATE-TIME:20260329T030000
TZNAME:CEST
TZOFFSETFROM:+0100
TZOFFSETTO:+0200
END:DAYLIGHT
END:VTIMEZONE
END:VCALENDAR
