BEGIN:VCALENDAR
VERSION:2.0
PRODID:-//Plone.org//NONSGML plone.app.event//EN
X-WR-TIMEZONE:Europe/Berlin
BEGIN:VEVENT
SUMMARY:Giornata Internazionale delle Donne e Ragazze nella Scienza
DTSTART;TZID=Europe/Berlin;VALUE=DATE-TIME:20260211T080000
DTEND;TZID=Europe/Berlin;VALUE=DATE-TIME:20260211T090000
DTSTAMP;VALUE=DATE-TIME:20260420T110249Z
UID:cc6636b7573f4b1f8822d2cbe4ddc502@www.isprambiente.gov.it
CONTACT:https://www.onuitalia.it/giornata-internazionale-delle-donne-e-rag
 azze-nella-scienza-11-febbraio/
CREATED;VALUE=DATE-TIME:20260129T070446Z
LAST-MODIFIED;VALUE=DATE-TIME:20260129T070513Z
URL:https://www.isprambiente.gov.it/it/attivita/museo/calendario-eventi/20
 26/giornata-internazionale-delle-donne-e-ragazze-nella-scienza
END:VEVENT
BEGIN:VTIMEZONE
TZID:Europe/Berlin
X-LIC-LOCATION:Europe/Berlin
BEGIN:STANDARD
DTSTART;VALUE=DATE-TIME:20251026T020000
TZNAME:CET
TZOFFSETFROM:+0200
TZOFFSETTO:+0100
END:STANDARD
END:VTIMEZONE
END:VCALENDAR
