BEGIN:VCALENDAR
VERSION:2.0
PRODID:-//Plone.org//NONSGML plone.app.event//EN
X-WR-TIMEZONE:Europe/Berlin
BEGIN:VEVENT
SUMMARY:I fossili di Bolca e gli ecosistemi marini tropicali 50 milioni di
  anni fa
DTSTART;TZID=Europe/Berlin;VALUE=DATE-TIME:20260331T130000
DTEND;TZID=Europe/Berlin;VALUE=DATE-TIME:20260331T140000
DTSTAMP;VALUE=DATE-TIME:20260423T123233Z
UID:dbf254e907094fd0a884a441abeceda9@www.isprambiente.gov.it
CONTACT:https://www.socgeol.it/N7071/avviso-seminario-i-fossili-di-bolca-e
 -gli-ecosistemi-marini-tropicali-50-milioni-di-anni-fa-sapienza-universita
 -di-roma.html
CREATED;VALUE=DATE-TIME:20260327T122036Z
LAST-MODIFIED;VALUE=DATE-TIME:20260327T122057Z
URL:https://www.isprambiente.gov.it/it/attivita/museo/calendario-eventi/20
 26/i-fossili-di-bolca-e-gli-ecosistemi-marini-tropicali-50-milioni-di-anni
 -fa
END:VEVENT
BEGIN:VTIMEZONE
TZID:Europe/Berlin
X-LIC-LOCATION:Europe/Berlin
BEGIN:DAYLIGHT
DTSTART;VALUE=DATE-TIME:20260329T030000
TZNAME:CEST
TZOFFSETFROM:+0100
TZOFFSETTO:+0200
END:DAYLIGHT
END:VTIMEZONE
END:VCALENDAR
