BEGIN:VCALENDAR
VERSION:2.0
PRODID:-//Plone.org//NONSGML plone.app.event//EN
X-WR-TIMEZONE:Europe/Berlin
BEGIN:VEVENT
SUMMARY:La Specola\, Mostra Fiori della Terra. Colori e geometrie nei mine
 rali
DTSTART;TZID=Europe/Berlin;VALUE=DATE-TIME:20260419T130000
DTEND;TZID=Europe/Berlin;VALUE=DATE-TIME:20260517T140000
DTSTAMP;VALUE=DATE-TIME:20260423T122241Z
UID:7c3d791ce78a437895636e29a693f27c@www.isprambiente.gov.it
CONTACT:https://www.sma.unifi.it/art-726-la-specola-mostra-fiori-della-ter
 ra-colori-e-geometrie-nei-minerali.html
CREATED;VALUE=DATE-TIME:20260327T122654Z
LAST-MODIFIED;VALUE=DATE-TIME:20260327T122658Z
URL:https://www.isprambiente.gov.it/it/attivita/museo/calendario-eventi/20
 26/la-specola-mostra-fiori-della-terra-colori-e-geometrie-nei-minerali
END:VEVENT
BEGIN:VTIMEZONE
TZID:Europe/Berlin
X-LIC-LOCATION:Europe/Berlin
BEGIN:DAYLIGHT
DTSTART;VALUE=DATE-TIME:20260329T030000
TZNAME:CEST
TZOFFSETFROM:+0100
TZOFFSETTO:+0200
END:DAYLIGHT
END:VTIMEZONE
END:VCALENDAR
