BEGIN:VCALENDAR
VERSION:2.0
PRODID:-//Plone.org//NONSGML plone.app.event//EN
X-WR-TIMEZONE:Europe/Berlin
BEGIN:VEVENT
SUMMARY:MANUALE PER INTERPRETI DEL PATRIMONIO. Dalla teoria alla pratica
DTSTART;TZID=Europe/Berlin;VALUE=DATE-TIME:20260224T070000
DTEND;TZID=Europe/Berlin;VALUE=DATE-TIME:20260224T080000
DTSTAMP;VALUE=DATE-TIME:20260420T104743Z
UID:085395227ed745b59aab71ca494acfc7@www.isprambiente.gov.it
CREATED;VALUE=DATE-TIME:20260223T060743Z
LAST-MODIFIED;VALUE=DATE-TIME:20260223T060746Z
URL:https://www.isprambiente.gov.it/it/attivita/museo/calendario-eventi/20
 26/manuale-per-interpreti-del-patrimonio-dalla-teoria-alla-pratica
END:VEVENT
BEGIN:VTIMEZONE
TZID:Europe/Berlin
X-LIC-LOCATION:Europe/Berlin
BEGIN:STANDARD
DTSTART;VALUE=DATE-TIME:20251026T020000
TZNAME:CET
TZOFFSETFROM:+0200
TZOFFSETTO:+0100
END:STANDARD
END:VTIMEZONE
END:VCALENDAR
