BEGIN:VCALENDAR
VERSION:2.0
PRODID:-//Plone.org//NONSGML plone.app.event//EN
X-WR-TIMEZONE:Europe/Berlin
BEGIN:VEVENT
SUMMARY:Mineralpavia: mostra e borsa scambio di minerali e fossili
DTSTART;TZID=Europe/Berlin;VALUE=DATE-TIME:20260412T130000
DTEND;TZID=Europe/Berlin;VALUE=DATE-TIME:20260412T140000
DTSTAMP;VALUE=DATE-TIME:20260423T122023Z
UID:91a05b6ea4734c228352fdbe134a8b20@www.isprambiente.gov.it
CONTACT:https://eventi-italiani.it/eventi/fiere-e-congressi/mineralpavia-m
 ostra-e-borsa-scambio-di-minerali-e-fossili/
CREATED;VALUE=DATE-TIME:20260327T122524Z
LAST-MODIFIED;VALUE=DATE-TIME:20260327T122528Z
URL:https://www.isprambiente.gov.it/it/attivita/museo/calendario-eventi/20
 26/mineralpavia-mostra-e-borsa-scambio-di-minerali-e-fossili
END:VEVENT
BEGIN:VTIMEZONE
TZID:Europe/Berlin
X-LIC-LOCATION:Europe/Berlin
BEGIN:DAYLIGHT
DTSTART;VALUE=DATE-TIME:20260329T030000
TZNAME:CEST
TZOFFSETFROM:+0100
TZOFFSETTO:+0200
END:DAYLIGHT
END:VTIMEZONE
END:VCALENDAR
